BEGIN:VCALENDAR
VERSION:2.0
PRODID:-//Dixon Gallery and Gardens//Events//EN
CALSCALE:GREGORIAN
METHOD:PUBLISH
BEGIN:VEVENT
UID:12607-2023-03-01@www.dixon.org
DTSTAMP:20260423T034801Z
DTSTART;TZID=America/Chicago:20230301T160000
DTEND;TZID=America/Chicago:20230301T170000
SUMMARY:Kaleidoscope Club (ages 5-9)
URL:https://www.dixon.org/events/event/kaleidoscope-club
END:VEVENT
END:VCALENDAR