BEGIN:VCALENDAR
VERSION:2.0
PRODID:-//Dixon Gallery and Gardens//Events//EN
CALSCALE:GREGORIAN
METHOD:PUBLISH
BEGIN:VEVENT
UID:23544@www.dixon.org
DTSTAMP:20260423T035317Z
DTSTART;TZID=America/Chicago:20220421T130000
DTEND;TZID=America/Chicago:20220421T190000
SUMMARY:Members’ Plant Sale Preview
URL:https://www.dixon.org/events/event/members-plant-sale-preview
END:VEVENT
END:VCALENDAR