BEGIN:VCALENDAR
VERSION:2.0
PRODID:-//Dixon Gallery and Gardens//Events//EN
CALSCALE:GREGORIAN
METHOD:PUBLISH
BEGIN:VEVENT
UID:39994-2026-04-07@www.dixon.org
DTSTAMP:20260422T034504Z
DTSTART;TZID=America/Chicago:20260407T180000
DTEND;TZID=America/Chicago:20260407T190000
SUMMARY:Club de lectura (Spanish Book Club)
URL:https://www.dixon.org/events/event/club-de-lectura
END:VEVENT
END:VCALENDAR