BEGIN:VCALENDAR
VERSION:2.0
PRODID:-//Dixon Gallery and Gardens//Events//EN
CALSCALE:GREGORIAN
METHOD:PUBLISH
BEGIN:VEVENT
UID:58288-2025-03-13@www.dixon.org
DTSTAMP:20260422T041054Z
DTSTART;TZID=America/Chicago:20250313T090000
DTEND;TZID=America/Chicago:20250313T150000
SUMMARY:Spring Break Camp (grades 1-5)
URL:https://www.dixon.org/events/event/spring-break-camp-grades-1-5
END:VEVENT
END:VCALENDAR