BEGIN:VCALENDAR
VERSION:2.0
PRODID:-//Dixon Gallery and Gardens//Events//EN
CALSCALE:GREGORIAN
METHOD:PUBLISH
BEGIN:VEVENT
UID:71783@www.dixon.org
DTSTAMP:20260423T061427Z
DTSTART;TZID=America/Chicago:20251018T190000
DTEND;TZID=America/Chicago:20251018T230000
SUMMARY:Art on Fire
URL:https://www.dixon.org/events/event/art-on-fire
END:VEVENT
END:VCALENDAR