BEGIN:VCALENDAR
VERSION:2.0
PRODID:-//Dixon Gallery and Gardens//Events//EN
CALSCALE:GREGORIAN
METHOD:PUBLISH
BEGIN:VEVENT
UID:72081-2025-10-14@www.dixon.org
DTSTAMP:20260423T062537Z
DTSTART;TZID=America/Chicago:20251014T100000
DTEND;TZID=America/Chicago:20251014T170000
SUMMARY:Hot Off the Wall Art Sale
URL:https://www.dixon.org/events/event/hot-off-the-wall-art-sale
END:VEVENT
END:VCALENDAR