BEGIN:VCALENDAR
VERSION:2.0
PRODID:-//Dixon Gallery and Gardens//Events//EN
CALSCALE:GREGORIAN
METHOD:PUBLISH
BEGIN:VEVENT
UID:73085@www.dixon.org
DTSTAMP:20260420T055400Z
DTSTART;TZID=America/Chicago:20251022T120000
DTEND;TZID=America/Chicago:20251022T130000
SUMMARY:Munch and Learn | Floating Eyeballs, Crystal Balls, and Little Round Mirrors: Artists Gaze Inward, ca. 1900
URL:https://www.dixon.org/events/event/munch-and-learn-floating-eyeballs-crystal-balls-and-little-round-mirrors-artists-gaze-inward-ca-1900
END:VEVENT
END:VCALENDAR